BEGIN:VCALENDAR
VERSION:2.0
PRODID:-//wp-events-plugin.com//7.2.3.1//EN
BEGIN:VEVENT
UID:14@jodierin.com
DTSTART;TZID=America/New_York:20260430T120000
DTEND;TZID=America/New_York:20260430T133000
DTSTAMP:20260330T015825Z
URL:https://jodierin.com/events/clinical-considerations-for-sex-therapy-wi
 th-bisexual-clients/
SUMMARY:Clinical Considerations for Sex Therapy with Bisexual Clients
DESCRIPTION:\nEvent Details\n\n\n\nThis 1.5-hour\, synchronous virtual prog
 ram will explore key considerations for working with bisexual and pansexua
 l clients in a sex therapy context. Participants will learn about common c
 hallenges these clients may bring into therapy\, debunk pervasive myths ab
 out bisexuality\, reflect on their own assumptions and biases\, and identi
 fy affirming clinical strategies to support bisexual clients.\n\nThe progr
 am will include a mix of lecture with PowerPoint\, a case study\, experien
 tial activities\, and time for personal reflection.\n\nClick here to sign 
 up \n\n&nbsp\;\n\nCourse Objectives\n\nCore Knowledge Areas: D Issues rela
 ted to sexual orientation and/or gender identity: heterosexuality\; issues
  and themes impacting lesbian\, gay\, bisexual\, pansexual\, asexual peopl
 e\; gender identity and expression.\n\nParticipants will be able to identi
 fy at least two ways to make their clinical practice feel safe and affirmi
 ng for bisexual clients.\n\nParticipants will be able to describe at least
  three ways internalized biphobia and bisexual invisibility may impact a c
 lient’s mental health\, relationships\, or sexual satisfaction.\n\nThis 
 program meets the requirements of the American Association of Sexuality Ed
 ucators\, Counselors and Therapists (AASECT) and is approved for CE credit
 s. These CE credits may be applied toward AASECT certification and renewal
  of certification.\n\nCompletion of this program does not ensure or guaran
 tee AASECT certification. For further information please contact info@aase
 ct.org.”\n\nScan QR code for more information and to sign up:\n\n\n\n
ATTACH;FMTTYPE=image/jpeg:https://jodierin.com/wp-content/uploads/2026/03/
 Clinical-Considerations-for-Sex-Therapy-With-Bisexual-Clients-2.png
CATEGORIES:Intimacy Unscripted
END:VEVENT
BEGIN:VTIMEZONE
TZID:America/New_York
X-LIC-LOCATION:America/New_York
BEGIN:DAYLIGHT
DTSTART:20260308T030000
TZOFFSETFROM:-0500
TZOFFSETTO:-0400
TZNAME:EDT
END:DAYLIGHT
END:VTIMEZONE
END:VCALENDAR